BEGIN:VCALENDAR
VERSION:2.0
PRODID:-//Asociación para la Investigación de Medios de Comunicación - ECPv4.5.4//NONSGML v1.0//EN
CALSCALE:GREGORIAN
METHOD:PUBLISH
X-WR-CALNAME:Asociación para la Investigación de Medios de Comunicación
X-ORIGINAL-URL:https://www.aimc.es
X-WR-CALDESC:Events for Asociación para la Investigación de Medios de Comunicación
BEGIN:VEVENT
DTSTART;TZID=Europe/Madrid:20110414T000000
DTEND;TZID=Europe/Madrid:20110414T000000
DTSTAMP:20260424T043456
CREATED:20170607T065509Z
LAST-MODIFIED:20170607T065509Z
UID:10141-1302739200-1302739200@www.aimc.es
SUMMARY:Asamblea General Ordinaria AIMC
DESCRIPTION:
URL:https://www.aimc.es/evento/asamblea-general-ordinaria-aimc/
END:VEVENT
END:VCALENDAR