BEGIN:VCALENDAR
VERSION:2.0
PRODID:-//Asociación para la Investigación de Medios de Comunicación - ECPv4.5.4//NONSGML v1.0//EN
CALSCALE:GREGORIAN
METHOD:PUBLISH
X-WR-CALNAME:Asociación para la Investigación de Medios de Comunicación
X-ORIGINAL-URL:https://www.aimc.es
X-WR-CALDESC:Events for Asociación para la Investigación de Medios de Comunicación
BEGIN:VEVENT
DTSTART;VALUE=DATE:20210714
DTEND;VALUE=DATE:20210714
DTSTAMP:20260425T142448
CREATED:20210112T102628Z
LAST-MODIFIED:20210112T102628Z
UID:17383-1626220800-1626307199@www.aimc.es
SUMMARY:Comisión Técnica
DESCRIPTION:
URL:https://www.aimc.es/evento/comision-tecnica-118/
END:VEVENT
END:VCALENDAR