BEGIN:VCALENDAR
VERSION:2.0
PRODID:-//Asociación para la Investigación de Medios de Comunicación - ECPv4.5.4//NONSGML v1.0//EN
CALSCALE:GREGORIAN
METHOD:PUBLISH
X-WR-CALNAME:Asociación para la Investigación de Medios de Comunicación
X-ORIGINAL-URL:https://www.aimc.es
X-WR-CALDESC:Events for Asociación para la Investigación de Medios de Comunicación
BEGIN:VEVENT
DTSTART;TZID=Europe/Madrid:20101103T090000
DTEND;TZID=Europe/Madrid:20101103T230000
DTSTAMP:20260425T154741
CREATED:20170607T065333Z
LAST-MODIFIED:20170607T065333Z
UID:10111-1288774800-1288825200@www.aimc.es
SUMMARY:Comisión Técnica
DESCRIPTION:
URL:https://www.aimc.es/evento/comision-tecnica-3/
END:VEVENT
END:VCALENDAR