BEGIN:VCALENDAR
VERSION:2.0
PRODID:-//Asociación para la Investigación de Medios de Comunicación - ECPv4.5.4//NONSGML v1.0//EN
CALSCALE:GREGORIAN
METHOD:PUBLISH
X-WR-CALNAME:Asociación para la Investigación de Medios de Comunicación
X-ORIGINAL-URL:https://www.aimc.es
X-WR-CALDESC:Events for Asociación para la Investigación de Medios de Comunicación
BEGIN:VEVENT
DTSTART;TZID=Europe/Madrid:20110414T003000
DTEND;TZID=Europe/Madrid:20110414T233000
DTSTAMP:20260424T025219
CREATED:20170607T065507Z
LAST-MODIFIED:20170607T065507Z
UID:10140-1302741000-1302823800@www.aimc.es
SUMMARY:Curso AIMC-AEDEMO Medios digitales. Fin
DESCRIPTION:
URL:https://www.aimc.es/evento/curso-aimc-aedemo-medios-digitales-fin/
END:VEVENT
END:VCALENDAR