BEGIN:VCALENDAR
VERSION:2.0
PRODID:-//Asociación para la Investigación de Medios de Comunicación - ECPv4.5.4//NONSGML v1.0//EN
CALSCALE:GREGORIAN
METHOD:PUBLISH
X-WR-CALNAME:Asociación para la Investigación de Medios de Comunicación
X-ORIGINAL-URL:https://www.aimc.es
X-WR-CALDESC:Events for Asociación para la Investigación de Medios de Comunicación
BEGIN:VEVENT
DTSTART;TZID=Europe/Madrid:20110404T000000
DTEND;TZID=Europe/Madrid:20110404T233000
DTSTAMP:20260424T093248
CREATED:20170607T065500Z
LAST-MODIFIED:20170607T065500Z
UID:10139-1301875200-1301959800@www.aimc.es
SUMMARY:Curso AIMC-AEDEMO Medios digitales. Inicio
DESCRIPTION:
URL:https://www.aimc.es/evento/curso-aimc-aedemo-medios-digitales-inicio/
END:VEVENT
END:VCALENDAR