BEGIN:VCALENDAR
VERSION:2.0
PRODID:-//Asociación para la Investigación de Medios de Comunicación - ECPv4.5.4//NONSGML v1.0//EN
CALSCALE:GREGORIAN
METHOD:PUBLISH
X-WR-CALNAME:Asociación para la Investigación de Medios de Comunicación
X-ORIGINAL-URL:https://www.aimc.es
X-WR-CALDESC:Events for Asociación para la Investigación de Medios de Comunicación
BEGIN:VEVENT
DTSTART;VALUE=DATE:20220323
DTEND;VALUE=DATE:20220323
DTSTAMP:20260423T220347
CREATED:20220127T112028Z
LAST-MODIFIED:20220127T112028Z
UID:18495-1647993600-1648079999@www.aimc.es
SUMMARY:Junta Directiva
DESCRIPTION:
URL:https://www.aimc.es/evento/junta-directiva-108/
END:VEVENT
END:VCALENDAR