BEGIN:VCALENDAR
VERSION:2.0
PRODID:-//Asociación para la Investigación de Medios de Comunicación - ECPv4.5.4//NONSGML v1.0//EN
CALSCALE:GREGORIAN
METHOD:PUBLISH
X-WR-CALNAME:Asociación para la Investigación de Medios de Comunicación
X-ORIGINAL-URL:https://www.aimc.es
X-WR-CALDESC:Events for Asociación para la Investigación de Medios de Comunicación
BEGIN:VEVENT
DTSTART;VALUE=DATE:20220420
DTEND;VALUE=DATE:20220420
DTSTAMP:20260423T172627
CREATED:20220127T112031Z
LAST-MODIFIED:20220127T112031Z
UID:18496-1650412800-1650499199@www.aimc.es
SUMMARY:Junta Directiva
DESCRIPTION:
URL:https://www.aimc.es/evento/junta-directiva-109/
END:VEVENT
END:VCALENDAR