BEGIN:VCALENDAR
VERSION:2.0
PRODID:-//Asociación para la Investigación de Medios de Comunicación - ECPv4.5.4//NONSGML v1.0//EN
CALSCALE:GREGORIAN
METHOD:PUBLISH
X-WR-CALNAME:Asociación para la Investigación de Medios de Comunicación
X-ORIGINAL-URL:https://www.aimc.es
X-WR-CALDESC:Events for Asociación para la Investigación de Medios de Comunicación
BEGIN:VEVENT
DTSTART;TZID=Europe/Madrid:20110405T000000
DTEND;TZID=Europe/Madrid:20110405T233000
DTSTAMP:20260424T075520
CREATED:20170607T065440Z
LAST-MODIFIED:20170607T065440Z
UID:10133-1301961600-1302046200@www.aimc.es
SUMMARY:Junta Directiva
DESCRIPTION:
URL:https://www.aimc.es/evento/junta-directiva-7/
END:VEVENT
END:VCALENDAR